BEGIN:VCALENDAR
VERSION:2.0
PRODID:-//eventon.com NONSGML v1.0//EN
CALSCALE:GREGORIAN
METHOD:PUBLISH
BEGIN:VEVENT
UID:69e74ab1e8abc
DTSTAMP:20260421T100017Z
DTSTART:20260216T180000Z
DTEND:20260216T225000Z
LOCATION:
SUMMARY:ESTERRI D'ÀNEU (Ball de tarda)
DESCRIPTION:ESTERRI D'ÀNEU (Ball de tarda)\nhttps://lachattaorquestra.com/
 events/esterri-daneu-ball-de-tarda/
URL:https://lachattaorquestra.com/events/esterri-daneu-ball-de-tarda/
END:VEVENT
END:VCALENDAR