BEGIN:VCALENDAR
VERSION:2.0
PRODID:-//eventon.com NONSGML v1.0//EN
CALSCALE:GREGORIAN
METHOD:PUBLISH
BEGIN:VEVENT
UID:69e9f00ef13f5
DTSTAMP:20260423T101022Z
DTSTART:20240810T213000Z
DTEND:20240810T215000Z
LOCATION:
SUMMARY:RIUDOMS
DESCRIPTION:RIUDOMS\nhttps://lachattaorquestra.com/events/riudoms-2024/
URL:https://lachattaorquestra.com/events/riudoms-2024/
END:VEVENT
END:VCALENDAR