BEGIN:VCALENDAR
VERSION:2.0
PRODID:-//eventon.com NONSGML v1.0//EN
CALSCALE:GREGORIAN
METHOD:PUBLISH
BEGIN:VEVENT
UID:69e9f57938980
DTSTAMP:20260423T103329Z
DTSTART:20240727T210000Z
DTEND:20240727T215000Z
LOCATION:
SUMMARY:SANTA EULÀLIA DE RONÇANA
DESCRIPTION:SANTA EULÀLIA DE RONÇANA\nhttps://lachattaorquestra.com/event
 s/santa-eulalia-de-roncana/
URL:https://lachattaorquestra.com/events/santa-eulalia-de-roncana/
END:VEVENT
END:VCALENDAR