BEGIN:VCALENDAR
VERSION:2.0
PRODID:-//eventon.com NONSGML v1.0//EN
CALSCALE:GREGORIAN
METHOD:PUBLISH
BEGIN:VEVENT
UID:69e519757e6a5
DTSTAMP:20260419T180541Z
DTSTART:20240628T220000Z
DTEND:20240629T215000Z
LOCATION:
SUMMARY:PERAFORT
DESCRIPTION:PERAFORT\nhttps://lachattaorquestra.com/events/perafort-2024/
URL:https://lachattaorquestra.com/events/perafort-2024/
END:VEVENT
END:VCALENDAR