BEGIN:VCALENDAR
VERSION:2.0
PRODID:-//eventon.com NONSGML v1.0//EN
CALSCALE:GREGORIAN
METHOD:PUBLISH
BEGIN:VEVENT
UID:69e9f4649ac0c
DTSTAMP:20260423T102852Z
DTSTART:20240425T213000Z
DTEND:20240425T215000Z
LOCATION:
SUMMARY:BINACED
DESCRIPTION:BINACED\nhttps://lachattaorquestra.com/events/binaced-2024/
URL:https://lachattaorquestra.com/events/binaced-2024/
END:VEVENT
END:VCALENDAR